BEGIN:VCALENDAR
PRODID:-//Solspace/Calendar 2.x//EN
VERSION:2.0
CALSCALE:GREGORIAN
BEGIN:VEVENT
UID:22cfdc1f0e603cb1f95b6fbcde43b95b@solspace.com
DTSTAMP:20260420T054052
DTSTART:20260423T180000
DTEND:20260423T190000
SUMMARY:Heilige Messe
END:VEVENT
END:VCALENDAR
