BEGIN:VCALENDAR
PRODID:-//Solspace/Calendar 2.x//EN
VERSION:2.0
CALSCALE:GREGORIAN
BEGIN:VEVENT
UID:df278f707f3806c247c19f8914cf6a0f@solspace.com
DTSTAMP:20260421T082159
DTSTART:20260426T093000
DTEND:20260426T103000
SUMMARY:Heilige Messe
END:VEVENT
END:VCALENDAR
