BEGIN:VCALENDAR
PRODID:-//Solspace/Calendar 2.x//EN
VERSION:2.0
CALSCALE:GREGORIAN
BEGIN:VEVENT
UID:054b4eb680efd45397f8bbf6dc13ab67@solspace.com
DTSTAMP:20260420T084022
DTSTART:20260426T101500
DTEND:20260426T111500
SUMMARY:Heilige Messe
END:VEVENT
END:VCALENDAR
