BEGIN:VCALENDAR
PRODID:-//Solspace/Calendar 2.x//EN
VERSION:2.0
CALSCALE:GREGORIAN
BEGIN:VEVENT
UID:17893a861ace58690bcf772730e06510@solspace.com
DTSTAMP:20260420T084027
DTSTART:20260426T090000
DTEND:20260426T100000
SUMMARY:Heilige Messe
END:VEVENT
END:VCALENDAR
