BEGIN:VCALENDAR
PRODID:-//Solspace/Calendar 2.x//EN
VERSION:2.0
CALSCALE:GREGORIAN
BEGIN:VEVENT
UID:84e4b902e20f8cf065cd3947bc0395fb@solspace.com
DTSTAMP:20260420T084024
DTSTART:20260426T080000
DTEND:20260426T090000
SUMMARY:Heilige Messe
END:VEVENT
END:VCALENDAR
