BEGIN:VCALENDAR
PRODID:-//Solspace/Calendar 2.x//EN
VERSION:2.0
CALSCALE:GREGORIAN
BEGIN:VEVENT
UID:b9959fd707c30ae7fd27e688e4f63f99@solspace.com
DTSTAMP:20260420T084021
DTSTART:20260421T180000
DTEND:20260421T190000
RRULE:FREQ=DAILY;UNTIL=20260424T235959Z;INTERVAL=1
EXDATE:20260422T180000
SUMMARY:Heilige Messe
END:VEVENT
END:VCALENDAR
