BEGIN:VCALENDAR
PRODID:-//Solspace/Calendar 2.x//EN
VERSION:2.0
CALSCALE:GREGORIAN
BEGIN:VEVENT
UID:cd27223b6da16ed8b8575b80406da258@solspace.com
DTSTAMP:20260420T084029
DTSTART:20260501T110000
DTEND:20260501T120000
SUMMARY:Festmesse mit Firmspendung
END:VEVENT
END:VCALENDAR
