BEGIN:VCALENDAR
PRODID:-//Solspace/Calendar 2.x//EN
VERSION:2.0
CALSCALE:GREGORIAN
BEGIN:VEVENT
UID:b1a8cea7c85b56724e3526b7844a1faa@solspace.com
DTSTAMP:20260420T123450
DTSTART:20260501T083000
DTEND:20260501T093000
SUMMARY:Festmesse mit Firmspendung
END:VEVENT
END:VCALENDAR
