BEGIN:VCALENDAR
PRODID:-//Solspace/Calendar 2.x//EN
VERSION:2.0
CALSCALE:GREGORIAN
BEGIN:VEVENT
UID:0fb40f8c4986ab5986bda4f77fbadc3c@solspace.com
DTSTAMP:20260422T232227
DTSTART:20260505T180000
DTEND:20260505T190000
SUMMARY:Wir beten dich an ... in allen deinen Kirchen
END:VEVENT
END:VCALENDAR
