BEGIN:VCALENDAR
PRODID:-//Solspace/Calendar 2.x//EN
VERSION:2.0
CALSCALE:GREGORIAN
BEGIN:VEVENT
UID:34e765151f74ca83286d1e688d5523d8@solspace.com
DTSTAMP:20260420T084023
DTSTART:20260726T100000
DTEND:20260726T110000
SUMMARY:Jakobifestmesse
END:VEVENT
END:VCALENDAR
