BEGIN:VCALENDAR
PRODID:-//Solspace/Calendar 2.x//EN
VERSION:2.0
CALSCALE:GREGORIAN
BEGIN:VEVENT
UID:5c77d1d125925e344ca6785017a07ab0@solspace.com
DTSTAMP:20260420T084028
DTSTART:20260628T090000
DTEND:20260628T100000
SUMMARY:Johannisfestmesse
END:VEVENT
END:VCALENDAR
