BEGIN:VCALENDAR
PRODID:-//Solspace/Calendar 2.x//EN
VERSION:2.0
CALSCALE:GREGORIAN
BEGIN:VEVENT
UID:b5dd9d272cd934be7c6393e0cc5d2e4c@solspace.com
DTSTAMP:20260420T084005
DTSTART:20260425T103000
DTEND:20260425T113000
SUMMARY:Festmesse zum Markustag
END:VEVENT
END:VCALENDAR
