BEGIN:VCALENDAR
PRODID:-//Solspace/Calendar 2.x//EN
VERSION:2.0
CALSCALE:GREGORIAN
BEGIN:VEVENT
UID:63903403a520272406700947d1c59945@solspace.com
DTSTAMP:20260421T093408
DTSTART:20260502T180000
DTEND:20260502T193000
SUMMARY:Heilige Messe und Maiandacht
END:VEVENT
END:VCALENDAR
