BEGIN:VCALENDAR
PRODID:-//Solspace/Calendar 2.x//EN
VERSION:2.0
CALSCALE:GREGORIAN
BEGIN:VEVENT
UID:6af62a65160ce6d4f3b44d974b7fb89a@solspace.com
DTSTAMP:20260420T072643
DTSTART:20260426T101500
DTEND:20260426T111500
SUMMARY:Heilige Messe | sveta maša
END:VEVENT
END:VCALENDAR
