BEGIN:VCALENDAR
PRODID:-//Solspace/Calendar 2.x//EN
VERSION:2.0
CALSCALE:GREGORIAN
BEGIN:VEVENT
UID:9a8cd17d4ee21afd9dbe5c5920dd85df@solspace.com
DTSTAMP:20260419T140054
DTSTART:20260503T180000
DTEND:20260503T190000
SUMMARY:Heilige Messe
END:VEVENT
END:VCALENDAR
