BEGIN:VCALENDAR
PRODID:-//Solspace/Calendar 2.x//EN
VERSION:2.0
CALSCALE:GREGORIAN
BEGIN:VEVENT
UID:6969f50a24a36d737da5471b1efa5cac@solspace.com
DTSTAMP:20260419T135924
DTSTART:20260503T100000
DTEND:20260503T110000
SUMMARY:Familiengottesdienst
END:VEVENT
END:VCALENDAR
