BEGIN:VCALENDAR
PRODID:-//Solspace/Calendar 2.x//EN
VERSION:2.0
CALSCALE:GREGORIAN
BEGIN:VEVENT
UID:405b7dd83b0a9329bbf94e16ad3fe435@solspace.com
DTSTAMP:20260419T140028
DTSTART:20260502T180000
DTEND:20260502T190000
SUMMARY:Heilige Messe
END:VEVENT
END:VCALENDAR
