BEGIN:VCALENDAR
PRODID:-//Solspace/Calendar 2.x//EN
VERSION:2.0
CALSCALE:GREGORIAN
BEGIN:VEVENT
UID:c4c10c9b0aa5c885d2f9113acd6d3ec7@solspace.com
DTSTAMP:20260419T140100
DTSTART:20260501T183000
DTEND:20260501T193000
SUMMARY:Anbetung
END:VEVENT
END:VCALENDAR
