BEGIN:VCALENDAR
PRODID:-//Solspace/Calendar 2.x//EN
VERSION:2.0
CALSCALE:GREGORIAN
BEGIN:VEVENT
UID:5c40eabcfbbd3a32651dd781cb8536ce@solspace.com
DTSTAMP:20260419T140311
DTSTART:20260501T180000
DTEND:20260501T190000
SUMMARY:Heilige Messe
END:VEVENT
END:VCALENDAR
