BEGIN:VCALENDAR
PRODID:-//Solspace/Calendar 2.x//EN
VERSION:2.0
CALSCALE:GREGORIAN
BEGIN:VEVENT
UID:ad927f6b2b8954b0f6365455077d345a@solspace.com
DTSTAMP:20260419T135838
DTSTART:20260501T100000
DTEND:20260501T120000
SUMMARY:Firmung
END:VEVENT
END:VCALENDAR
