BEGIN:VCALENDAR
PRODID:-//Solspace/Calendar 2.x//EN
VERSION:2.0
CALSCALE:GREGORIAN
BEGIN:VEVENT
UID:fc95645c0c616f3f310daa9652e80c71@solspace.com
DTSTAMP:20260419T135720
DTSTART:20260430T070000
DTEND:20260430T080000
SUMMARY:Heilige Messe
END:VEVENT
END:VCALENDAR
