BEGIN:VCALENDAR
PRODID:-//Solspace/Calendar 2.x//EN
VERSION:2.0
CALSCALE:GREGORIAN
BEGIN:VEVENT
UID:2f6c345290470cdcc99627d6523dd623@solspace.com
DTSTAMP:20260419T140049
DTSTART:20260429T070000
DTEND:20260429T080000
SUMMARY:Heilige Messe
END:VEVENT
END:VCALENDAR
