BEGIN:VCALENDAR
PRODID:-//Solspace/Calendar 2.x//EN
VERSION:2.0
CALSCALE:GREGORIAN
BEGIN:VEVENT
UID:e691f9959d7ebb820a7c566b69992fd3@solspace.com
DTSTAMP:20260419T140131
DTSTART:20260428T070000
DTEND:20260428T080000
SUMMARY:Heilige Messe
END:VEVENT
END:VCALENDAR
