BEGIN:VCALENDAR
PRODID:-//Solspace/Calendar 2.x//EN
VERSION:2.0
CALSCALE:GREGORIAN
BEGIN:VEVENT
UID:f0f1e3a095d534cb028041b52f90c71f@solspace.com
DTSTAMP:20260419T140100
DTSTART:20260427T070000
DTEND:20260427T080000
SUMMARY:Heilige Messe
END:VEVENT
END:VCALENDAR
