BEGIN:VCALENDAR
PRODID:-//Solspace/Calendar 2.x//EN
VERSION:2.0
CALSCALE:GREGORIAN
BEGIN:VEVENT
UID:216cdcc4069e8ea49af088068e3f0eda@solspace.com
DTSTAMP:20260419T135931
DTSTART:20260425T180000
DTEND:20260425T190000
SUMMARY:Heilige Messe
END:VEVENT
END:VCALENDAR
