BEGIN:VCALENDAR
PRODID:-//Solspace/Calendar 2.x//EN
VERSION:2.0
CALSCALE:GREGORIAN
BEGIN:VEVENT
UID:c4c2eb32bfc563aa0c3d8a8688866347@solspace.com
DTSTAMP:20260419T135802
DTSTART:20260424T180000
DTEND:20260424T190000
SUMMARY:Heilige Messe
END:VEVENT
END:VCALENDAR
