BEGIN:VCALENDAR
PRODID:-//Solspace/Calendar 2.x//EN
VERSION:2.0
CALSCALE:GREGORIAN
BEGIN:VEVENT
UID:83ac061d01765fcfb65d0af3b56408f3@solspace.com
DTSTAMP:20260419T135802
DTSTART:20260423T180000
DTEND:20260424T000000
SUMMARY:Monatliche Anbetung
END:VEVENT
END:VCALENDAR
