BEGIN:VCALENDAR
PRODID:-//Solspace/Calendar 2.x//EN
VERSION:2.0
CALSCALE:GREGORIAN
BEGIN:VEVENT
UID:cd0c4f366eb31f4b61fa99feac7484ce@solspace.com
DTSTAMP:20260419T135931
DTSTART:20260423T070000
DTEND:20260423T080000
SUMMARY:Heilige Messe
END:VEVENT
END:VCALENDAR
