BEGIN:VCALENDAR
PRODID:-//Solspace/Calendar 2.x//EN
VERSION:2.0
CALSCALE:GREGORIAN
BEGIN:VEVENT
UID:77208d2dc448265401e429e55204edbd@solspace.com
DTSTAMP:20260419T135838
DTSTART:20260422T070000
DTEND:20260422T080000
SUMMARY:Heilige Messe
END:VEVENT
END:VCALENDAR
