BEGIN:VCALENDAR
PRODID:-//Solspace/Calendar 2.x//EN
VERSION:2.0
CALSCALE:GREGORIAN
BEGIN:VEVENT
UID:ac07a400e96d66deea6328156408a7fe@solspace.com
DTSTAMP:20260419T140054
DTSTART:20260421T070000
DTEND:20260421T080000
SUMMARY:Heilige Messe
END:VEVENT
END:VCALENDAR
