BEGIN:VCALENDAR
PRODID:-//Solspace/Calendar 2.x//EN
VERSION:2.0
CALSCALE:GREGORIAN
BEGIN:VEVENT
UID:f048350ec93eed294e99ccbc9f68c0ef@solspace.com
DTSTAMP:20260425T032647
DTSTART:20260425T183000
DTEND:20260425T193000
SUMMARY:Pontifikalamt mit Bischof Josef Marketz\, Investitur "Propst
 " für Stadthauptpfarrer Richard Pirker
END:VEVENT
END:VCALENDAR
