BEGIN:VCALENDAR
PRODID:-//Solspace/Calendar 2.x//EN
VERSION:2.0
CALSCALE:GREGORIAN
BEGIN:VEVENT
UID:6e9e6fa6d6ac3453d14bbee6fc2139c9@solspace.com
DTSTAMP:20260422T180802
DTSTART:20260607T100000
DTEND:20260607T110000
SUMMARY:Heilige Messe
END:VEVENT
END:VCALENDAR
