BEGIN:VCALENDAR
PRODID:-//Solspace/Calendar 2.x//EN
VERSION:2.0
CALSCALE:GREGORIAN
BEGIN:VEVENT
UID:02bfdbf572de270af9d98c62f77957b0@solspace.com
DTSTAMP:20260422T180635
DTSTART:20260604T100000
DTEND:20260604T110000
SUMMARY:Heilige Messe
END:VEVENT
END:VCALENDAR
