BEGIN:VCALENDAR
PRODID:-//Solspace/Calendar 2.x//EN
VERSION:2.0
CALSCALE:GREGORIAN
BEGIN:VEVENT
UID:20c724a559e6a6a7c33dacc5c7778ca7@solspace.com
DTSTAMP:20260422T180720
DTSTART:20260603T190000
DTEND:20260603T200000
SUMMARY:Heilige Messe
END:VEVENT
END:VCALENDAR
