BEGIN:VCALENDAR
PRODID:-//Solspace/Calendar 2.x//EN
VERSION:2.0
CALSCALE:GREGORIAN
BEGIN:VEVENT
UID:6b24cfc32e391dc08f16a375c5df119d@solspace.com
DTSTAMP:20260422T180726
DTSTART:20260602T190000
DTEND:20260602T200000
SUMMARY:Heilige Messe
END:VEVENT
END:VCALENDAR
