BEGIN:VCALENDAR
PRODID:-//Solspace/Calendar 2.x//EN
VERSION:2.0
CALSCALE:GREGORIAN
BEGIN:VEVENT
UID:6435f1c1771be6f35ff610f9c719f3f2@solspace.com
DTSTAMP:20260422T181001
DTSTART:20260531T100000
DTEND:20260531T110000
SUMMARY:Heilige Messe
END:VEVENT
END:VCALENDAR
