BEGIN:VCALENDAR
PRODID:-//Solspace/Calendar 2.x//EN
VERSION:2.0
CALSCALE:GREGORIAN
BEGIN:VEVENT
UID:a6d643b5f200e1af4fdf3793fc8c6953@solspace.com
DTSTAMP:20260422T180920
DTSTART:20260525T140000
DTEND:20260525T150000
SUMMARY:Bergsegen am Griebitsch
END:VEVENT
END:VCALENDAR
