BEGIN:VCALENDAR
PRODID:-//Solspace/Calendar 2.x//EN
VERSION:2.0
CALSCALE:GREGORIAN
BEGIN:VEVENT
UID:ca8ea762236e34cde375468a86d5da61@solspace.com
DTSTAMP:20260422T180548
DTSTART:20260520T190000
DTEND:20260520T200000
SUMMARY:Heilige Messe
END:VEVENT
END:VCALENDAR
