BEGIN:VCALENDAR
PRODID:-//Solspace/Calendar 2.x//EN
VERSION:2.0
CALSCALE:GREGORIAN
BEGIN:VEVENT
UID:078d5c456c0edf9dca59b45dc55c4f25@solspace.com
DTSTAMP:20260422T180640
DTSTART:20260517T090000
DTEND:20260517T100000
SUMMARY:Wortgottesdienst
END:VEVENT
END:VCALENDAR
