BEGIN:VCALENDAR
PRODID:-//Solspace/Calendar 2.x//EN
VERSION:2.0
CALSCALE:GREGORIAN
BEGIN:VEVENT
UID:5330509d8825ab4afa07f472c952cef3@solspace.com
DTSTAMP:20260422T181318
DTSTART:20260514T100000
DTEND:20260514T110000
SUMMARY:Heilige Messe
END:VEVENT
END:VCALENDAR
