BEGIN:VCALENDAR
PRODID:-//Solspace/Calendar 2.x//EN
VERSION:2.0
CALSCALE:GREGORIAN
BEGIN:VEVENT
UID:d2a7bfc728fccdb54789420f2657cd00@solspace.com
DTSTAMP:20260422T181001
DTSTART:20260513T083000
DTEND:20260513T093000
SUMMARY:Bittprozession
END:VEVENT
END:VCALENDAR
