BEGIN:VCALENDAR
PRODID:-//Solspace/Calendar 2.x//EN
VERSION:2.0
CALSCALE:GREGORIAN
BEGIN:VEVENT
UID:73900fa288982688b9efff595d5dff20@solspace.com
DTSTAMP:20260422T181011
DTSTART:20260512T190000
DTEND:20260512T200000
SUMMARY:Heilige Messe
END:VEVENT
END:VCALENDAR
