BEGIN:VCALENDAR
PRODID:-//Solspace/Calendar 2.x//EN
VERSION:2.0
CALSCALE:GREGORIAN
BEGIN:VEVENT
UID:fee70bed28c3876c13fbf6f323d7d06e@solspace.com
DTSTAMP:20260422T181048
DTSTART:20260510T083000
DTEND:20260510T093000
SUMMARY:Heilige Messe
END:VEVENT
END:VCALENDAR
