BEGIN:VCALENDAR
PRODID:-//Solspace/Calendar 2.x//EN
VERSION:2.0
CALSCALE:GREGORIAN
BEGIN:VEVENT
UID:177169b347bba7d1e2c1731121923ba8@solspace.com
DTSTAMP:20260422T180415
DTSTART:20260508T070000
DTEND:20260508T080000
SUMMARY:Heilige Messe
END:VEVENT
END:VCALENDAR
