BEGIN:VCALENDAR
PRODID:-//Solspace/Calendar 2.x//EN
VERSION:2.0
CALSCALE:GREGORIAN
BEGIN:VEVENT
UID:1c65511945c4b20912f59a205b5c22da@solspace.com
DTSTAMP:20260422T180640
DTSTART:20260506T190000
DTEND:20260506T200000
SUMMARY:Heilige Messe
END:VEVENT
END:VCALENDAR
