BEGIN:VCALENDAR
PRODID:-//Solspace/Calendar 2.x//EN
VERSION:2.0
CALSCALE:GREGORIAN
BEGIN:VEVENT
UID:54ab707b8499d5f5ec6890cf069d66f3@solspace.com
DTSTAMP:20260422T180522
DTSTART:20260505T190000
DTEND:20260505T200000
SUMMARY:Heilige Messe
END:VEVENT
END:VCALENDAR
