BEGIN:VCALENDAR
PRODID:-//Solspace/Calendar 2.x//EN
VERSION:2.0
CALSCALE:GREGORIAN
BEGIN:VEVENT
UID:1e32a759fe9b4b33371245fd27aadbf3@solspace.com
DTSTAMP:20260422T181011
DTSTART:20260503T100000
DTEND:20260503T110000
SUMMARY:Heilige Messe
END:VEVENT
END:VCALENDAR
