BEGIN:VCALENDAR
PRODID:-//Solspace/Calendar 2.x//EN
VERSION:2.0
CALSCALE:GREGORIAN
BEGIN:VEVENT
UID:8d977d20a3565374b079a014da484e59@solspace.com
DTSTAMP:20260422T181323
DTSTART:20260502T073000
DTEND:20260502T083000
SUMMARY:Florianiprozession
END:VEVENT
END:VCALENDAR
