BEGIN:VCALENDAR
PRODID:-//Solspace/Calendar 2.x//EN
VERSION:2.0
CALSCALE:GREGORIAN
BEGIN:VEVENT
UID:3f778143e22bb0cfa837427e1f5d1fdf@solspace.com
DTSTAMP:20260422T180920
DTSTART:20260426T090000
DTEND:20260426T100000
SUMMARY:Wortgottesdienst
END:VEVENT
END:VCALENDAR
