BEGIN:VCALENDAR
PRODID:-//Solspace/Calendar 2.x//EN
VERSION:2.0
CALSCALE:GREGORIAN
BEGIN:VEVENT
UID:606c7fb6b98d0daa8684a4793a5f784b@solspace.com
DTSTAMP:20260422T181048
DTSTART:20260424T183000
DTEND:20260424T193000
SUMMARY:Heilige Messe
END:VEVENT
END:VCALENDAR
